BEGIN:VCALENDAR
VERSION:2.0
PRODID:-//Vince - ECPv6.6.0.2//NONSGML v1.0//EN
CALSCALE:GREGORIAN
METHOD:PUBLISH
X-WR-CALNAME:Vince
X-ORIGINAL-URL:https://vince.hu
X-WR-CALDESC:Events for Vince
REFRESH-INTERVAL;VALUE=DURATION:PT1H
X-Robots-Tag:noindex
X-PUBLISHED-TTL:PT1H
BEGIN:VTIMEZONE
TZID:Europe/Budapest
BEGIN:DAYLIGHT
TZOFFSETFROM:+0100
TZOFFSETTO:+0200
TZNAME:CEST
DTSTART:20250330T010000
END:DAYLIGHT
BEGIN:STANDARD
TZOFFSETFROM:+0200
TZOFFSETTO:+0100
TZNAME:CET
DTSTART:20251026T010000
END:STANDARD
END:VTIMEZONE
BEGIN:VEVENT
DTSTART;TZID=Europe/Budapest:20250917T180000
DTEND;TZID=Europe/Budapest:20250917T200000
DTSTAMP:20260422T142726
CREATED:20250508T074434Z
LAST-MODIFIED:20250910T123956Z
UID:30757-1758132000-1758139200@vince.hu
SUMMARY:Vince Borműhely: Kovács Nimród csúcs-vörösborai
DESCRIPTION:A szeptemberi Vince Borműhely vendége Kovács Nimród borosgazda lesz.\n\n\nSzeptember 17-én idén másodjára érkezik hozzánk Nimród\, aki ezúttal ikonikus\, csúcsvörösborait mutatja be- köztük a frissen született Fusion tételt (Először a hazai borkedvelők körében!) valamint további\, a Nagy-Eged hegy és Nyilasmár dűlőkből származó parádés\, mindenki által kedvelt borait!  \nNimród közvetlensége\, humora és a borok iránti mély tisztelete\, valamint az egri dűlők garanciát jelentenek egy újabb felejthetetlen borkóstolóra\, amit kár volna kihagyni! \nKóstold meg az egri dűlők páratlan ízét- köztük a Nagy-Eged hegyi ikonikus tételeket! \n\n\nBorsor:\n\n\nMax’22\nFusion’21\nDouble Barrel’21\nWOW’21\nJAZZ’19\nNJK’18\nGrand Bleu’18\n\n\n\nA borokat a Michelin-ajánlással kitűntetett VIRTU Restaurant falatkái kísérik. \nSzeretettel várunk! \n\n\nIdőpont: szeptember 17.\, 18 és 20 óra között\nHelyszín: VIRTU Restaurant
URL:https://vince.hu/rendezveny/vince-bormuhely-kovacs-nimrod-csucs-vorosborai/
LOCATION:Virtu\, MOL Campus\, Dombóvári út 28-28.emelet\, 1117\, Magyarország
CATEGORIES:Vince Borműhely
ATTACH;FMTTYPE=image/jpeg:https://vince.hu/wp-content/uploads/2025/05/Kovacs-Nimrod-telthaz_platform_1083x979.jpg
END:VEVENT
BEGIN:VEVENT
DTSTART;TZID=Europe/Budapest:20250925T180000
DTEND;TZID=Europe/Budapest:20250925T200000
DTSTAMP:20260422T142726
CREATED:20250805T113730Z
LAST-MODIFIED:20250910T124649Z
UID:31992-1758823200-1758830400@vince.hu
SUMMARY:Vince Borműhely: Wachau 5 csillagos borai
DESCRIPTION:Te ismered az osztrák gyöngyszem\, Wachau egyedülállóan karakteres borait? Esetleg eddig mellőzted az osztrák borokat\, mert még élnek benned tévhitek a régióval kapcsolatban?\nA Vince Borműhely következő borkóstolóján bebizonyítjuk\, hogy Wachau új kedvenceket rejt számodra! Készülj egy különleges borkalandra! A Vince magazin Wachau bortesztjének legkiemelkedőbb\, 5 csillagos minősítést elért borait most egy exkluzív kóstolósorban ismerheted meg a Vince Borműhelyben. Ausztria egyik legizgalmasabb borvidékének karakteres tételei kerülnek a poharadba – szakértői magyarázattal\, izgalmas történetekkel és mélyebb betekintéssel a Wachau borok világába. \nBORSOR\n1. MAYER WEISSBURGUNDER SMARAGD SPITZER GRABEN\nTesztünk eredménye: **** 16\,50 PONT\nHalvány citromszín. Visszafogott\, elegáns illat fehér virágokkal\, naranccsal\, citrommal\, barackkal és leheletnyi akácvirággal is. Ízben is hasonlóan szép\, feszes savakkal\, jó szerkezettel\, a fehér húsú barack zamatával. Egyensúlyos\, kerek és friss a korty\, hosszú ásványos lecsengéssel.\n  \n\n2. DOMÄNE WACHAU GRÜNER VELTLINER SMARAGD RIED ACHLEITEN 2023\nTesztünk eredménye: ***** VINCE-DÍJ\nVilágos sárgászöld szín. Herbás\, zöldes\, fűszeres illat citromfűvel\, fehér borssal\, friss citrusokkal\, érett barackkal és kis mézzel\, akácvirággal. Feszes szerkezetű\, élénk savú és krémes textúrájú tétel\, tele érett gyümölcsökkel\, lime-mal\, citrommal\, frissítő ásványos jegyekkel és gyógyfüvekkel. Ízgazdag bor nagyon jó arányokkal.\n  \n\n3. TEGERNSEERHOF GRÜNER VELTLINER RIED LOIBENER HÖHERECK SMARAGD 2023\nTesztünk eredménye: ***** VINCE-DÍJ\nMélyebb árnyalatú citromszín. Izgalmas\, komplex illat érett gyümölcsökkel\, almás\, barackos\, citrusos aromákkal\, egy kis zöldfűszerrel és sós\, minerális jegyekkel. Ízben is koncentrált\, sokrétű bor szép szerkezettel\, selymes textúrával; főleg ásványos karakterű\, de az érett citrusok\, a barack és az alma íze is hosszan elkísér.\n  \n\n4. VEYDER MALBERG WEITENBERG GRÜNER VELTLINER 2022\nTesztünk eredménye: ***** VINCE-DÍJ\nIntenzív szalmasárga szín. Izgalmas illat pikáns\, fűszeres jegyekkel\, citromfűvel\, jázminnal\, majd zöld almával\, nektarinnal\, fehér barackkal\, de ásványos jegyekkel is. Ízben is hasonlóan sokrétű\, gazdagon texturált\, de friss hatású is. Feszes szerkezetű\, jó arányú\, üde savú\, citrusos és ásványos ízvilágú\, nagyon hosszú bor.\n  \n5. ROMAN GRITSCH RIESLING RIED SPITZER 1000-EIMERBERG SMARAGD 2023\nTesztünk eredménye: ***** VINCE-DÍJ\nVilágos aranysárga szín. Intenzív illat tele érett déli gyümölccsel\, grépfrúttal\, ananásszal\, kamillával\, jázminnal\, pikáns fűszerességgel. Kóstolva is hasonlóan intenzív\, üde\, citrusosan fanyar\, szőlős\, almás ízvilágú\, nagyobb testű\, de feszes\, friss savú bor csodás hosszúsággal\, finom utóízzel\, fűszeres és ásványos jegyekkel.\n  \n\n6. HUTTER SILBERBICHLERHOF RIESLING RIED SILBERBICHL MAUTERN SMARAGD 2021\nTesztünk eredeménye: ***** VINCE-DÍJ\nMélyebb árnyalatú aranyszín. Gazdag\, komplex\, határozottan fajtajelleges illat petrollal\, köves és mézes jegyekkel\, de érett déli gyümölcsök finom illatával is. Egyensúlyos szerkezetű\, kerek\, jól kitöltött korty\, ízében is érett citrusokkal\, grépfrúttal és túlérett\, lédús fehér gyümölcsökkel\, sós\, köves\, botritiszes lecsengéssel.\n  \n7. NIKOLAIHOF RIESLING VOM STEIN SMARAGD 2019\nTesztünk eredeménye: ***** VINCE-DÍJ\nVilágos aranyszín. Intenzív és komplex\, érett illat: petrolos\, almás\, kajszibarackos\, citrusos\, egy kis gyömbérrel\, mézzel és botritisszel. Nagyon jó arányú\, érettebb\, élénk savú\, lendületes bor hosszú utóízzel. Koncentrált és élvezetes\, gazdag ízvilágú tétel\, sok gyümölccsel\, fűszeres\, ásványos jegyekkel és finom textúrával.\n  \nAz est házigazdája Vancsik Ivett\, a Vince magazin főszerkesztője\, aki személyesen vezeti végig a vendégeket ezen az egyedülálló ízutazáson. \nFedezd fel a gondosan válogatott csúcsborokat\, értsd meg a mögöttük rejlő filozófiát\, és tapasztald meg\, miért érdemelték ki az 5 csillagot a Vince magazin szakértői vaktesztjén! \nA borsort a Virtu étterem gourmet falatkái kísérik. \n\n 
URL:https://vince.hu/rendezveny/vince-bormuhely-wachau-5-csillagos-borai/
LOCATION:Virtu\, MOL Campus\, Dombóvári út 28-28.emelet\, 1117\, Magyarország
CATEGORIES:Vince Borműhely
ATTACH;FMTTYPE=image/jpeg:https://vince.hu/wp-content/uploads/2025/08/Bormuhely_platform_1200x1200kis.jpg
END:VEVENT
END:VCALENDAR